Package: omicplotR Version: 1.31.0 Maintainer: Daniel Giguere MaintainerEmail: dgiguer at uwo.ca git_url: https://git.bioconductor.org/packages/omicplotR git_branch: devel git_last_commit: 37d7dc5 git_last_commit_date: 2025-10-29 10:43:06 -0500 (Wed, 29 Oct 2025)