Package: nullranges Version: 1.17.0 Command: /home/biocbuild/bbs-3.23-bioc/R/bin/R CMD INSTALL nullranges StartedAt: 2025-11-07 15:35:42 -0500 (Fri, 07 Nov 2025) EndedAt: 2025-11-07 15:35:54 -0500 (Fri, 07 Nov 2025) EllapsedTime: 12.5 seconds RetCode: 1 Status: ERROR