Package: nullranges Version: 1.17.0 Maintainer: Michael Love MaintainerEmail: michaelisaiahlove at gmail.com git_url: https://git.bioconductor.org/packages/nullranges git_branch: devel git_last_commit: f28268b git_last_commit_date: 2025-10-29 11:12:51 -0500 (Wed, 29 Oct 2025)