Package: nuCpos Version: 1.29.0 Command: /Library/Frameworks/R.framework/Resources/bin/R CMD INSTALL nuCpos StartedAt: 2025-11-21 15:01:46 -0500 (Fri, 21 Nov 2025) EndedAt: 2025-11-21 15:01:53 -0500 (Fri, 21 Nov 2025) EllapsedTime: 7.5 seconds RetCode: 0 Status: OK