Package: nuCpos Version: 1.29.0 Command: /Library/Frameworks/R.framework/Resources/bin/R CMD build --keep-empty-dirs --no-resave-data nuCpos StartedAt: 2025-11-21 17:09:43 -0500 (Fri, 21 Nov 2025) EndedAt: 2025-11-21 17:09:50 -0500 (Fri, 21 Nov 2025) EllapsedTime: 7.1 seconds RetCode: 0 Status: OK PackageFile: nuCpos_1.29.0.tar.gz PackageFileSize: 2.392 MiB