Package: nipalsMCIA Version: 1.9.0 Command: /home/biocbuild/bbs-3.23-bioc/R/bin/R CMD INSTALL nipalsMCIA StartedAt: 2025-11-07 15:20:45 -0500 (Fri, 07 Nov 2025) EndedAt: 2025-11-07 15:21:12 -0500 (Fri, 07 Nov 2025) EllapsedTime: 26.5 seconds RetCode: 0 Status: OK