Package: nipalsMCIA Version: 1.9.0 Command: /home/biocbuild/bbs-3.23-bioc/R/bin/R CMD check --install=check:nipalsMCIA.install-out.txt --library=/home/biocbuild/bbs-3.23-bioc/R/site-library --timings nipalsMCIA_1.9.0.tar.gz StartedAt: 2025-11-19 02:52:53 -0500 (Wed, 19 Nov 2025) EndedAt: 2025-11-19 03:00:30 -0500 (Wed, 19 Nov 2025) EllapsedTime: 457.7 seconds RetCode: 0 Status: OK CheckDir: nipalsMCIA.Rcheck Warnings: 0