Package: nipalsMCIA Version: 1.9.0 Command: /home/biocbuild/bbs-3.23-bioc/R/bin/R CMD build --keep-empty-dirs --no-resave-data nipalsMCIA StartedAt: 2025-11-07 18:56:22 -0500 (Fri, 07 Nov 2025) EndedAt: 2025-11-07 18:59:14 -0500 (Fri, 07 Nov 2025) EllapsedTime: 171.2 seconds RetCode: 0 Status: OK PackageFile: nipalsMCIA_1.9.0.tar.gz PackageFileSize: 3.147 MiB