Package: nipalsMCIA Version: 1.9.0 Maintainer: Maximilian Mattessich MaintainerEmail: maximilian.mattessich at northwestern.edu git_url: https://git.bioconductor.org/packages/nipalsMCIA git_branch: devel git_last_commit: 9adbe20 git_last_commit_date: 2025-10-29 11:25:22 -0500 (Wed, 29 Oct 2025)