Package: netresponse Version: 1.71.0 Command: /home/biocbuild/bbs-3.23-bioc/R/bin/R CMD INSTALL netresponse StartedAt: 2025-11-16 15:15:44 -0500 (Sun, 16 Nov 2025) EndedAt: 2025-11-16 15:15:55 -0500 (Sun, 16 Nov 2025) EllapsedTime: 11.0 seconds RetCode: 0 Status: OK