Package: netresponse Version: 1.71.0 Command: /home/biocbuild/bbs-3.23-bioc/R/bin/R CMD build --keep-empty-dirs --no-resave-data netresponse StartedAt: 2025-11-16 19:04:32 -0500 (Sun, 16 Nov 2025) EndedAt: 2025-11-16 19:04:46 -0500 (Sun, 16 Nov 2025) EllapsedTime: 14.0 seconds RetCode: 0 Status: OK PackageFile: netresponse_1.71.0.tar.gz PackageFileSize: 975.5 KiB