Package: netboost Version: 2.19.0 Command: /home/biocbuild/bbs-3.23-bioc/R/bin/R CMD INSTALL netboost StartedAt: 2025-11-09 15:45:36 -0500 (Sun, 09 Nov 2025) EndedAt: 2025-11-09 15:46:24 -0500 (Sun, 09 Nov 2025) EllapsedTime: 48.0 seconds RetCode: 0 Status: OK