Package: netboost Version: 2.19.0 Command: /home/biocbuild/bbs-3.23-bioc/R/bin/R CMD build --keep-empty-dirs --no-resave-data netboost StartedAt: 2025-11-09 18:54:35 -0500 (Sun, 09 Nov 2025) EndedAt: 2025-11-09 18:55:32 -0500 (Sun, 09 Nov 2025) EllapsedTime: 57.1 seconds RetCode: 0 Status: OK PackageFile: netboost_2.19.0.tar.gz PackageFileSize: 1.138 MiB