Package: netboost Version: 2.19.0 Maintainer: Pascal Schlosser MaintainerEmail: pascal.schlosser at uniklinik-freiburg.de git_url: https://git.bioconductor.org/packages/netboost git_branch: devel git_last_commit: cd295da git_last_commit_date: 2025-10-29 10:52:20 -0500 (Wed, 29 Oct 2025)