Package: netSmooth Version: 1.31.0 Command: /home/biocbuild/bbs-3.23-bioc/R/bin/R CMD INSTALL netSmooth StartedAt: 2025-11-07 15:56:07 -0500 (Fri, 07 Nov 2025) EndedAt: 2025-11-07 15:56:54 -0500 (Fri, 07 Nov 2025) EllapsedTime: 46.4 seconds RetCode: 0 Status: OK