Package: netSmooth Version: 1.31.0 Command: /home/biocbuild/bbs-3.23-bioc/R/bin/R CMD build --keep-empty-dirs --no-resave-data netSmooth StartedAt: 2025-11-07 18:56:02 -0500 (Fri, 07 Nov 2025) EndedAt: 2025-11-07 18:57:41 -0500 (Fri, 07 Nov 2025) EllapsedTime: 99.1 seconds RetCode: 0 Status: OK PackageFile: netSmooth_1.31.0.tar.gz PackageFileSize: 3.011 MiB