Package: ncdfFlow Version: 2.57.0 Command: /home/biocbuild/bbs-3.23-bioc/R/bin/R CMD INSTALL ncdfFlow StartedAt: 2025-11-07 15:13:55 -0500 (Fri, 07 Nov 2025) EndedAt: 2025-11-07 15:14:08 -0500 (Fri, 07 Nov 2025) EllapsedTime: 12.7 seconds RetCode: 0 Status: OK