Package: ncRNAtools Version: 1.21.0 Command: /home/biocbuild/bbs-3.23-bioc/R/bin/R CMD build --keep-empty-dirs --no-resave-data ncRNAtools StartedAt: 2025-11-21 19:00:36 -0500 (Fri, 21 Nov 2025) EndedAt: 2025-11-21 19:01:31 -0500 (Fri, 21 Nov 2025) EllapsedTime: 55.0 seconds RetCode: 0 Status: OK PackageFile: ncRNAtools_1.21.0.tar.gz PackageFileSize: 315.9 KiB