Package: multiMiR Version: 1.33.0 Command: /home/biocbuild/bbs-3.23-bioc/R/bin/R CMD build --keep-empty-dirs --no-resave-data multiMiR StartedAt: 2025-11-19 18:58:54 -0500 (Wed, 19 Nov 2025) EndedAt: 2025-11-19 19:00:28 -0500 (Wed, 19 Nov 2025) EllapsedTime: 93.1 seconds RetCode: 0 Status: OK PackageFile: multiMiR_1.33.0.tar.gz PackageFileSize: 332.4 KiB