Package: multiHiCcompare Version: 1.29.0 Command: /home/biocbuild/bbs-3.23-bioc/R/bin/R CMD build --keep-empty-dirs --no-resave-data multiHiCcompare StartedAt: 2025-11-07 18:51:38 -0500 (Fri, 07 Nov 2025) EndedAt: 2025-11-07 18:52:38 -0500 (Fri, 07 Nov 2025) EllapsedTime: 60.1 seconds RetCode: 0 Status: OK PackageFile: multiHiCcompare_1.29.0.tar.gz PackageFileSize: 4.741 MiB