Package: multiHiCcompare Version: 1.29.0 Maintainer: Mikhail Dozmorov MaintainerEmail: mikhail.dozmorov at gmail.com git_url: https://git.bioconductor.org/packages/multiHiCcompare git_branch: devel git_last_commit: 31f6781 git_last_commit_date: 2025-10-29 10:46:53 -0500 (Wed, 29 Oct 2025)