Package: msmsTests Version: 1.49.0 Command: /home/biocbuild/bbs-3.23-bioc/R/bin/R CMD INSTALL msmsTests StartedAt: 2025-11-24 15:37:25 -0500 (Mon, 24 Nov 2025) EndedAt: 2025-11-24 15:38:03 -0500 (Mon, 24 Nov 2025) EllapsedTime: 37.8 seconds RetCode: 0 Status: OK