Package: msmsTests Version: 1.49.0 Command: /home/biocbuild/bbs-3.23-bioc/R/bin/R CMD build --keep-empty-dirs --no-resave-data msmsTests StartedAt: 2025-11-24 18:53:09 -0500 (Mon, 24 Nov 2025) EndedAt: 2025-11-24 18:54:25 -0500 (Mon, 24 Nov 2025) EllapsedTime: 76.1 seconds RetCode: 0 Status: OK PackageFile: msmsTests_1.49.0.tar.gz PackageFileSize: 548.7 KiB