Package: msgbsR Version: 1.35.0 Command: /home/biocbuild/bbs-3.23-bioc/R/bin/R CMD INSTALL msgbsR StartedAt: 2025-11-07 15:52:45 -0500 (Fri, 07 Nov 2025) EndedAt: 2025-11-07 15:53:42 -0500 (Fri, 07 Nov 2025) EllapsedTime: 57.8 seconds RetCode: 0 Status: OK