Package: msgbsR Version: 1.35.0 Command: /home/biocbuild/bbs-3.23-bioc/R/bin/R CMD build --keep-empty-dirs --no-resave-data msgbsR StartedAt: 2025-11-07 18:47:38 -0500 (Fri, 07 Nov 2025) EndedAt: 2025-11-07 18:49:11 -0500 (Fri, 07 Nov 2025) EllapsedTime: 93.1 seconds RetCode: 0 Status: OK PackageFile: msgbsR_1.35.0.tar.gz PackageFileSize: 15.25 MiB