Package: motifStack Version: 1.55.0 Command: /home/biocbuild/bbs-3.23-bioc/R/bin/R CMD INSTALL motifStack StartedAt: 2025-11-07 15:52:20 -0500 (Fri, 07 Nov 2025) EndedAt: 2025-11-07 15:53:06 -0500 (Fri, 07 Nov 2025) EllapsedTime: 46.1 seconds RetCode: 0 Status: OK