Package: methylInheritance Version: 1.35.0 Command: /home/biocbuild/bbs-3.23-bioc/R/bin/R CMD INSTALL methylInheritance StartedAt: 2025-11-07 15:28:59 -0500 (Fri, 07 Nov 2025) EndedAt: 2025-11-07 15:29:38 -0500 (Fri, 07 Nov 2025) EllapsedTime: 39.3 seconds RetCode: 0 Status: OK