Package: methylInheritance Version: 1.35.0 Command: /home/biocbuild/bbs-3.23-bioc/R/bin/R CMD build --keep-empty-dirs --no-resave-data methylInheritance StartedAt: 2025-11-09 18:29:44 -0500 (Sun, 09 Nov 2025) EndedAt: 2025-11-09 18:31:06 -0500 (Sun, 09 Nov 2025) EllapsedTime: 82.0 seconds RetCode: 0 Status: OK PackageFile: methylInheritance_1.35.0.tar.gz PackageFileSize: 1.71 MiB