Package: methylInheritance Version: 1.35.0 Maintainer: Astrid DeschĂȘnes MaintainerEmail: adeschen at hotmail.com git_url: https://git.bioconductor.org/packages/methylInheritance git_branch: devel git_last_commit: ffbee45 git_last_commit_date: 2025-10-29 10:38:16 -0500 (Wed, 29 Oct 2025)