Package: methrix Version: 1.25.0 Command: /home/biocbuild/bbs-3.23-bioc/R/bin/R CMD INSTALL methrix StartedAt: 2025-11-07 15:34:10 -0500 (Fri, 07 Nov 2025) EndedAt: 2025-11-07 15:34:51 -0500 (Fri, 07 Nov 2025) EllapsedTime: 41.2 seconds RetCode: 0 Status: OK