Package: methrix Version: 1.25.0 Command: /home/biocbuild/bbs-3.23-bioc/R/bin/R CMD build --keep-empty-dirs --no-resave-data methrix StartedAt: 2025-11-07 18:29:57 -0500 (Fri, 07 Nov 2025) EndedAt: 2025-11-07 18:33:38 -0500 (Fri, 07 Nov 2025) EllapsedTime: 220.2 seconds RetCode: 0 Status: OK PackageFile: methrix_1.25.0.tar.gz PackageFileSize: 3.993 MiB