Package: methrix Version: 1.25.0 Maintainer: Anand Mayakonda MaintainerEmail: anand_mt at hotmail.com git_url: https://git.bioconductor.org/packages/methrix git_branch: devel git_last_commit: 797afd5 git_last_commit_date: 2025-10-29 10:55:34 -0500 (Wed, 29 Oct 2025)