Package: methodical Version: 1.7.0 Command: /home/biocbuild/bbs-3.23-bioc/R/bin/R CMD INSTALL methodical StartedAt: 2025-11-18 16:34:58 -0500 (Tue, 18 Nov 2025) EndedAt: 2025-11-18 16:35:38 -0500 (Tue, 18 Nov 2025) EllapsedTime: 40.7 seconds RetCode: 0 Status: OK