Package: methInheritSim Version: 1.33.0 Command: /home/biocbuild/bbs-3.23-bioc/R/bin/R CMD INSTALL methInheritSim StartedAt: 2025-11-07 15:30:04 -0500 (Fri, 07 Nov 2025) EndedAt: 2025-11-07 15:30:42 -0500 (Fri, 07 Nov 2025) EllapsedTime: 37.8 seconds RetCode: 0 Status: OK