Package: methInheritSim Version: 1.33.0 Maintainer: Pascal Belleau MaintainerEmail: pascal_belleau at hotmail.com git_url: https://git.bioconductor.org/packages/methInheritSim git_branch: devel git_last_commit: 6ebe1c9 git_last_commit_date: 2025-10-29 10:38:50 -0500 (Wed, 29 Oct 2025)