Package: metabomxtr Version: 1.45.0 Command: /home/biocbuild/bbs-3.23-bioc/R/bin/R CMD build --keep-empty-dirs --no-resave-data metabomxtr StartedAt: 2025-11-07 18:27:34 -0500 (Fri, 07 Nov 2025) EndedAt: 2025-11-07 18:28:04 -0500 (Fri, 07 Nov 2025) EllapsedTime: 30.0 seconds RetCode: 0 Status: OK PackageFile: metabomxtr_1.45.0.tar.gz PackageFileSize: 560.9 KiB