Package: metabCombiner Version: 1.21.0 Command: /home/biocbuild/bbs-3.23-bioc/R/bin/R CMD INSTALL metabCombiner StartedAt: 2025-11-09 15:11:53 -0500 (Sun, 09 Nov 2025) EndedAt: 2025-11-09 15:12:10 -0500 (Sun, 09 Nov 2025) EllapsedTime: 17.1 seconds RetCode: 0 Status: OK