Package: metabCombiner Version: 1.21.0 Command: /home/biocbuild/bbs-3.23-bioc/R/bin/R CMD build --keep-empty-dirs --no-resave-data metabCombiner StartedAt: 2025-11-09 18:25:41 -0500 (Sun, 09 Nov 2025) EndedAt: 2025-11-09 18:26:13 -0500 (Sun, 09 Nov 2025) EllapsedTime: 32.0 seconds RetCode: 0 Status: OK PackageFile: metabCombiner_1.21.0.tar.gz PackageFileSize: 2.582 MiB