Package: metabCombiner Version: 1.21.0 Maintainer: Hani Habra MaintainerEmail: hhabra1 at gmail.com git_url: https://git.bioconductor.org/packages/metabCombiner git_branch: devel git_last_commit: 0e1b012 git_last_commit_date: 2025-10-29 11:03:41 -0500 (Wed, 29 Oct 2025)