Package: maPredictDSC Version: 1.49.0 Command: /home/biocbuild/bbs-3.23-bioc/R/bin/R CMD INSTALL maPredictDSC StartedAt: 2025-11-17 15:27:06 -0500 (Mon, 17 Nov 2025) EndedAt: 2025-11-17 15:27:29 -0500 (Mon, 17 Nov 2025) EllapsedTime: 23.0 seconds RetCode: 0 Status: OK