Package: maPredictDSC Version: 1.49.0 Command: /home/biocbuild/bbs-3.23-bioc/R/bin/R CMD build --keep-empty-dirs --no-resave-data maPredictDSC StartedAt: 2025-11-17 18:32:10 -0500 (Mon, 17 Nov 2025) EndedAt: 2025-11-17 18:33:33 -0500 (Mon, 17 Nov 2025) EllapsedTime: 83.1 seconds RetCode: 0 Status: OK PackageFile: maPredictDSC_1.49.0.tar.gz PackageFileSize: 197.8 KiB