Package: m6Aboost Version: 1.17.0 Command: /home/biocbuild/bbs-3.23-bioc/R/bin/R CMD INSTALL m6Aboost StartedAt: 2025-11-07 15:57:24 -0500 (Fri, 07 Nov 2025) EndedAt: 2025-11-07 15:58:09 -0500 (Fri, 07 Nov 2025) EllapsedTime: 45.2 seconds RetCode: 0 Status: OK