Package: m6Aboost Version: 1.17.0 Command: /home/biocbuild/bbs-3.23-bioc/R/bin/R CMD build --keep-empty-dirs --no-resave-data m6Aboost StartedAt: 2025-11-07 18:19:13 -0500 (Fri, 07 Nov 2025) EndedAt: 2025-11-07 18:20:29 -0500 (Fri, 07 Nov 2025) EllapsedTime: 76.1 seconds RetCode: 0 Status: OK PackageFile: m6Aboost_1.17.0.tar.gz PackageFileSize: 759.6 KiB