Package: logicFS Version: 2.31.0 Command: /home/biocbuild/bbs-3.23-bioc/R/bin/R CMD build --keep-empty-dirs --no-resave-data logicFS StartedAt: 2025-11-07 18:18:29 -0500 (Fri, 07 Nov 2025) EndedAt: 2025-11-07 18:18:42 -0500 (Fri, 07 Nov 2025) EllapsedTime: 13.0 seconds RetCode: 0 Status: OK PackageFile: logicFS_2.31.0.tar.gz PackageFileSize: 260.1 KiB