Package: linkSet Version: 1.1.0 Command: /home/biocbuild/bbs-3.23-bioc/R/bin/R CMD build --keep-empty-dirs --no-resave-data linkSet StartedAt: 2025-11-07 18:17:38 -0500 (Fri, 07 Nov 2025) EndedAt: 2025-11-07 18:18:54 -0500 (Fri, 07 Nov 2025) EllapsedTime: 76.1 seconds RetCode: 0 Status: OK PackageFile: linkSet_1.1.0.tar.gz PackageFileSize: 4.3 MiB