Package: limmaGUI Version: 1.87.0 Command: /home/biocbuild/bbs-3.23-bioc/R/bin/R CMD INSTALL limmaGUI StartedAt: 2025-11-14 15:05:29 -0500 (Fri, 14 Nov 2025) EndedAt: 2025-11-14 15:05:57 -0500 (Fri, 14 Nov 2025) EllapsedTime: 28.1 seconds RetCode: 0 Status: OK