Package: katdetectr Version: 1.13.0 Command: /home/biocbuild/bbs-3.23-bioc/R/bin/R CMD INSTALL katdetectr StartedAt: 2025-11-20 15:42:33 -0500 (Thu, 20 Nov 2025) EndedAt: 2025-11-20 15:43:13 -0500 (Thu, 20 Nov 2025) EllapsedTime: 39.3 seconds RetCode: 0 Status: OK