Package: iterativeBMA Version: 1.69.0 Command: /home/biocbuild/bbs-3.23-bioc/R/bin/R CMD INSTALL iterativeBMA StartedAt: 2025-11-09 15:12:22 -0500 (Sun, 09 Nov 2025) EndedAt: 2025-11-09 15:12:28 -0500 (Sun, 09 Nov 2025) EllapsedTime: 6.2 seconds RetCode: 0 Status: OK