Package: iterativeBMA Version: 1.69.0 Command: /home/biocbuild/bbs-3.23-bioc/R/bin/R CMD build --keep-empty-dirs --no-resave-data iterativeBMA StartedAt: 2025-11-07 18:13:52 -0500 (Fri, 07 Nov 2025) EndedAt: 2025-11-07 18:14:08 -0500 (Fri, 07 Nov 2025) EllapsedTime: 16.0 seconds RetCode: 0 Status: OK PackageFile: iterativeBMA_1.69.0.tar.gz PackageFileSize: 158.9 KiB