Package: iterativeBMA Version: 1.69.0 Maintainer: Ka Yee Yeung MaintainerEmail: kayee at u.washington.edu git_url: https://git.bioconductor.org/packages/iterativeBMA git_branch: devel git_last_commit: 01a26fb git_last_commit_date: 2025-10-29 10:01:03 -0500 (Wed, 29 Oct 2025)